BEGIN:VCALENDAR
VERSION:2.0
PRODID:-//Plone.org//NONSGML plone.app.event//EN
X-WR-TIMEZONE:Europe/Berlin
BEGIN:VEVENT
SUMMARY:Brückenkurs zum Vorkurs des Fachbereichs 12 Mathematik und Inform
 atik
DTSTART;TZID=Europe/Berlin:20190923T160000
DTEND;TZID=Europe/Berlin:20190923T160000
DTSTAMP:20260425T060129Z
UID:56f38f11da4144d0b10053615b7afa71@www.uni-marburg.de
ATTENDEE;CN="Dr. Bernd Köber ";ROLE=REQ-PARTICIPANT:Dr. Bernd Köber 
CREATED:20190327T100013Z
DESCRIPTION:https://www.uni-marburg.de/de/studium/im-studium/studienstart/
 aktuelles/termine-19-20/brueckenkurs-fuer-erstsemester-studierende-des-fac
 hbereichs-12-mathematik-und-informatik\n
LAST-MODIFIED:20240422T082424Z
LOCATION:Seminarraum +2/0100\, Hörsaalgebäude\, Biegenstr. 14
URL:https://www.uni-marburg.de/de/studium/im-studium/studienstart/aktuelle
 s/termine-19-20/brueckenkurs-fuer-erstsemester-studierende-des-fachbereich
 s-12-mathematik-und-informatik
END:VEVENT
BEGIN:VTIMEZONE
TZID:Europe/Berlin
X-LIC-LOCATION:Europe/Berlin
BEGIN:DAYLIGHT
DTSTART:20190331T030000
TZNAME:CEST
TZOFFSETFROM:+0100
TZOFFSETTO:+0200
END:DAYLIGHT
END:VTIMEZONE
END:VCALENDAR
