BEGIN:VCALENDAR
VERSION:2.0
PRODID:-//Plone.org//NONSGML plone.app.event//EN
X-WR-TIMEZONE:Europe/Berlin
BEGIN:VEVENT
SUMMARY:Brückenkurs für Mathematik für Erstsemester-Studierende in den 
 Wirtschaftswissenschaften
DTSTART;TZID=Europe/Berlin:20190930T091500
DTEND;TZID=Europe/Berlin:20191002T130000
DTSTAMP:20260425T050852Z
UID:9d26512a2e5b4ee38240b771c922bba5@www.uni-marburg.de
ATTENDEE;CN="Wilhelm Werner ";ROLE=REQ-PARTICIPANT:Wilhelm Werner 
CREATED:20190327T095031Z
DESCRIPTION:https://www.uni-marburg.de/de/studium/im-studium/studienstart/
 aktuelles/termine-19-20/brueckenkurs-fuer-mathematik-in-den-wirtschaftswis
 senschaften\n
LAST-MODIFIED:20240422T082424Z
LOCATION:Seminarraum +2/0110\, Hörsaalgebäude\, Biegenstr. 14
URL:https://www.uni-marburg.de/de/studium/im-studium/studienstart/aktuelle
 s/termine-19-20/brueckenkurs-fuer-mathematik-in-den-wirtschaftswissenschaf
 ten
END:VEVENT
BEGIN:VTIMEZONE
TZID:Europe/Berlin
X-LIC-LOCATION:Europe/Berlin
BEGIN:DAYLIGHT
DTSTART:20190331T030000
TZNAME:CEST
TZOFFSETFROM:+0100
TZOFFSETTO:+0200
END:DAYLIGHT
END:VTIMEZONE
END:VCALENDAR
