BEGIN:VCALENDAR
VERSION:2.0
PRODID:-//Plone.org//NONSGML plone.app.event//EN
X-WR-TIMEZONE:Europe/Berlin
BEGIN:VEVENT
SUMMARY:Fachübergreifende Einführung in das Lehramtsstudium Wintersemest
 er 19/20
DTSTART;TZID=Europe/Berlin:20191007T130000
DTEND;TZID=Europe/Berlin:20191007T143000
DTSTAMP:20260423T091545Z
UID:58605043add64e7fb150d98c9c26f2bb@www.uni-marburg.de
ATTENDEE;CN="Dr. Christine Hartig ";ROLE=REQ-PARTICIPANT:Dr. Christine Har
 tig 
CREATED:20190320T114738Z
DESCRIPTION:https://www.uni-marburg.de/de/studium/im-studium/studienstart/
 aktuelles/termine-19-20/einfuehrung-in-das-lehramtsstudium\n
LAST-MODIFIED:20240422T082424Z
LOCATION:Hörsaal H in der PhilFak\, Wilhelm-Röpke-Strasse 6\, Aufgang im
  Foyer
URL:https://www.uni-marburg.de/de/studium/im-studium/studienstart/aktuelle
 s/termine-19-20/einfuehrung-in-das-lehramtsstudium
END:VEVENT
BEGIN:VTIMEZONE
TZID:Europe/Berlin
X-LIC-LOCATION:Europe/Berlin
BEGIN:DAYLIGHT
DTSTART:20190331T030000
TZNAME:CEST
TZOFFSETFROM:+0100
TZOFFSETTO:+0200
END:DAYLIGHT
END:VTIMEZONE
END:VCALENDAR
