BEGIN:VCALENDAR
VERSION:2.0
PRODID:-//Plone.org//NONSGML plone.app.event//EN
X-WR-TIMEZONE:Europe/Berlin
BEGIN:VEVENT
SUMMARY:Informationen zum Auslandssemester
DTSTART;TZID=Europe/Berlin:20191010T161500
DTEND;TZID=Europe/Berlin:20191010T170000
DTSTAMP:20260423T083249Z
UID:085cf2e496de4b63bc3bca87456f6577@www.uni-marburg.de
ATTENDEE;CN="Sina Schneider, Johanne Schäfer";ROLE=REQ-PARTICIPANT:Sina S
 chneider, Johanne Schäfer
CREATED:20180828T114002Z
DESCRIPTION:https://www.uni-marburg.de/de/studium/im-studium/studienstart/
 aktuelles/termine-19-20/informationen-zum-auslandssemester\n
LAST-MODIFIED:20240422T082425Z
LOCATION:Mensa am Erlenring - Raum wird ausgeschildert
URL:https://www.uni-marburg.de/de/studium/im-studium/studienstart/aktuelle
 s/termine-19-20/informationen-zum-auslandssemester
END:VEVENT
BEGIN:VTIMEZONE
TZID:Europe/Berlin
X-LIC-LOCATION:Europe/Berlin
BEGIN:DAYLIGHT
DTSTART:20190331T030000
TZNAME:CEST
TZOFFSETFROM:+0100
TZOFFSETTO:+0200
END:DAYLIGHT
END:VTIMEZONE
END:VCALENDAR
