BEGIN:VCALENDAR
VERSION:2.0
PRODID:-//Plone.org//NONSGML plone.app.event//EN
X-WR-TIMEZONE:Europe/Berlin
BEGIN:VEVENT
SUMMARY:Orientierungsmarkt (O-Markt) 2019
DTSTART;TZID=Europe/Berlin:20191010T160000
DTEND;TZID=Europe/Berlin:20191010T180000
DTSTAMP:20260422T095917Z
UID:dc1e4c49b4c546919e8360505c437cd9@www.uni-marburg.de
ATTENDEE;CN="Service-Einrichtungen der Uni und des Studentenwerks Marburg 
 sowie studentische Initiativen ";ROLE=REQ-PARTICIPANT:Service-Einrichtunge
 n der Uni und des Studentenwerks Marburg sowie studentische Initiativen 
CREATED:20180720T112233Z
DESCRIPTION:https://www.uni-marburg.de/de/studium/im-studium/studienstart/
 aktuelles/termine-19-20/o-markt-2019\n
LAST-MODIFIED:20240422T082425Z
LOCATION:Mensa am Erlenring 5
URL:https://www.uni-marburg.de/de/studium/im-studium/studienstart/aktuelle
 s/termine-19-20/o-markt-2019
END:VEVENT
BEGIN:VTIMEZONE
TZID:Europe/Berlin
X-LIC-LOCATION:Europe/Berlin
BEGIN:DAYLIGHT
DTSTART:20190331T030000
TZNAME:CEST
TZOFFSETFROM:+0100
TZOFFSETTO:+0200
END:DAYLIGHT
END:VTIMEZONE
END:VCALENDAR
