BEGIN:VCALENDAR
VERSION:2.0
PRODID:-//Plone.org//NONSGML plone.app.event//EN
X-WR-TIMEZONE:Europe/Berlin
BEGIN:VEVENT
SUMMARY:Orientierungsprogramme für ausländische Studienanfänger/innen
DTSTART;TZID=Europe/Berlin:20191001T090000
DTSTAMP:20260423T001108Z
UID:6385572d95274ef596105f97af6a9a4d@www.uni-marburg.de
ATTENDEE;CN="Mitarbeiter/innen des International Office und Mentor/innen "
 ;ROLE=REQ-PARTICIPANT:Mitarbeiter/innen des International Office und Mento
 r/innen 
CREATED:20180312T165648Z
DESCRIPTION:https://www.uni-marburg.de/de/studium/im-studium/studienstart/
 aktuelles/termine-19-20/orientierungsprogramme-fuer-auslaendische-studiena
 nfaenger-innen\n
LAST-MODIFIED:20240422T082425Z
LOCATION:Raum wird bekannt gegeben
URL:https://www.uni-marburg.de/de/studium/im-studium/studienstart/aktuelle
 s/termine-19-20/orientierungsprogramme-fuer-auslaendische-studienanfaenger
 -innen
END:VEVENT
BEGIN:VTIMEZONE
TZID:Europe/Berlin
X-LIC-LOCATION:Europe/Berlin
BEGIN:DAYLIGHT
DTSTART:20190331T030000
TZNAME:CEST
TZOFFSETFROM:+0100
TZOFFSETTO:+0200
END:DAYLIGHT
END:VTIMEZONE
END:VCALENDAR
