BEGIN:VCALENDAR
VERSION:2.0
PRODID:-//Plone.org//NONSGML plone.app.event//EN
X-WR-TIMEZONE:Europe/Berlin
BEGIN:VEVENT
SUMMARY:Vorkurs Mathematik
DTSTART;TZID=Europe/Berlin:20191001T101500
DTEND;TZID=Europe/Berlin:20191005T163000
DTSTAMP:20260422T204823Z
UID:39daf4947b4c4e9a93a639fa94349cbf@www.uni-marburg.de
ATTENDEE;CN="Dr. Andreas Lochmann ";ROLE=REQ-PARTICIPANT:Dr. Andreas Lochm
 ann 
CREATED:20190116T101423Z
DESCRIPTION:https://www.uni-marburg.de/de/studium/im-studium/studienstart/
 aktuelles/termine-19-20/vorkurs-mathematik\n
LAST-MODIFIED:20240422T082424Z
LOCATION:Biegenstraße 14\, Raum 00/0030
URL:https://www.uni-marburg.de/de/studium/im-studium/studienstart/aktuelle
 s/termine-19-20/vorkurs-mathematik
END:VEVENT
BEGIN:VTIMEZONE
TZID:Europe/Berlin
X-LIC-LOCATION:Europe/Berlin
BEGIN:DAYLIGHT
DTSTART:20190331T030000
TZNAME:CEST
TZOFFSETFROM:+0100
TZOFFSETTO:+0200
END:DAYLIGHT
END:VTIMEZONE
END:VCALENDAR
