BEGIN:VCALENDAR
VERSION:2.0
PRODID:-//Plone.org//NONSGML plone.app.event//EN
X-WR-TIMEZONE:Europe/Berlin
BEGIN:VEVENT
SUMMARY:Wie komme ich an ein Stipendium?
DTSTART;TZID=Europe/Berlin:20191010T170000
DTEND;TZID=Europe/Berlin:20191010T174500
DTSTAMP:20260422T220635Z
UID:f56c13dd7be94e14baea402abd352313@www.uni-marburg.de
ATTENDEE;CN="Paula Böcker";ROLE=REQ-PARTICIPANT:Paula Böcker
CREATED:20180828T115055Z
DESCRIPTION:https://www.uni-marburg.de/de/studium/im-studium/studienstart/
 aktuelles/termine-19-20/wie-komme-ich-an-ein-stipendium\n
LAST-MODIFIED:20240422T082425Z
LOCATION:Mensa am Erlenring - Raum wird ausgeschildert
URL:https://www.uni-marburg.de/de/studium/im-studium/studienstart/aktuelle
 s/termine-19-20/wie-komme-ich-an-ein-stipendium
END:VEVENT
BEGIN:VTIMEZONE
TZID:Europe/Berlin
X-LIC-LOCATION:Europe/Berlin
BEGIN:DAYLIGHT
DTSTART:20190331T030000
TZNAME:CEST
TZOFFSETFROM:+0100
TZOFFSETTO:+0200
END:DAYLIGHT
END:VTIMEZONE
END:VCALENDAR
