BEGIN:VCALENDAR
VERSION:2.0
PRODID:-//Plone.org//NONSGML plone.app.event//EN
X-WR-TIMEZONE:Europe/Berlin
BEGIN:VEVENT
SUMMARY:Mental Health: Supportgruppe von peer-to-peer
DTSTART;TZID=Europe/Berlin:20260127T183000
DTEND;TZID=Europe/Berlin:20260127T193000
DTSTAMP:20260424T022707Z
UID:6ac1247f18b54cdfb6ef6d07e48e846e@www.uni-marburg.de
RRULE:FREQ=MONTHLY;UNTIL=20261220T000000;BYDAY=+4TU
EXDATE;TZID=Europe/Berlin:20231226T183000,20240326T183000,20240827T183000,
 20240924T183000,20241224T183000,20250325T183000,20250722T183000,20250826T1
 83000,20250923T183000,20260324T183000
ATTENDEE;CN="Stefanie Ingiulla (SBS)";ROLE=REQ-PARTICIPANT:Stefanie Ingiul
 la (SBS)
ATTENDEE;CN="Maren Kersting (ZAS)";ROLE=REQ-PARTICIPANT:Maren Kersting (ZA
 S)
ATTENDEE;CN="Christine Krause (SBS)";ROLE=REQ-PARTICIPANT:Christine Krause
  (SBS)
CATEGORIES:()
CREATED:20221222T211510Z
DESCRIPTION:https://www.uni-marburg.de/de/studium/service/sbs/aktuelles/te
 rmine/mental-health-selbsthilfegruppe-von-peer-to-peer\nSupportgruppe bei 
 Depressionen\, Angstzuständen\, Panikattacken\, mentalen Belastungen
LAST-MODIFIED:20260326T103339Z
LOCATION:Online
URL:https://www.uni-marburg.de/de/studium/service/sbs/aktuelles/termine/me
 ntal-health-selbsthilfegruppe-von-peer-to-peer
END:VEVENT
BEGIN:VTIMEZONE
TZID:Europe/Berlin
X-LIC-LOCATION:Europe/Berlin
BEGIN:DAYLIGHT
DTSTART:20260329T030000
TZNAME:CEST
TZOFFSETFROM:+0100
TZOFFSETTO:+0200
END:DAYLIGHT
END:VTIMEZONE
END:VCALENDAR
