BEGIN:VCALENDAR
VERSION:2.0
PRODID:-//Plone.org//NONSGML plone.app.event//EN
X-WR-TIMEZONE:Europe/Berlin
BEGIN:VEVENT
SUMMARY:PC-Sprechstunde
DTSTART;TZID=Europe/Berlin:20260415T180000
DTEND;TZID=Europe/Berlin:20260415T190000
DTSTAMP:20260419T222945Z
UID:e1a729ec58124f30913cf531ec90432a@www.uni-marburg.de
RRULE:FREQ=WEEKLY;UNTIL=20261218T000000
ATTENDEE;CN="Studienhelfer*innen der SBS";ROLE=REQ-PARTICIPANT:Studienhelf
 er*innen der SBS
CATEGORIES:()
CREATED:20251222T181020Z
DESCRIPTION:https://www.uni-marburg.de/de/studium/service/sbs/aktuelles/te
 rmine/shk/pc-sprechstunde-neu\n
LAST-MODIFIED:20260326T104140Z
LOCATION:Universitätsbibliothek\, Kabinen für Studierende mit Behinderun
 g\, Deutschhausstraße 9
URL:https://www.uni-marburg.de/de/studium/service/sbs/aktuelles/termine/sh
 k/pc-sprechstunde-neu
END:VEVENT
BEGIN:VTIMEZONE
TZID:Europe/Berlin
X-LIC-LOCATION:Europe/Berlin
BEGIN:DAYLIGHT
DTSTART:20260329T030000
TZNAME:CEST
TZOFFSETFROM:+0100
TZOFFSETTO:+0200
END:DAYLIGHT
END:VTIMEZONE
END:VCALENDAR
