BEGIN:VCALENDAR
VERSION:2.0
PRODID:-//Plone.org//NONSGML plone.app.event//EN
X-WR-TIMEZONE:Europe/Berlin
BEGIN:VEVENT
SUMMARY:PC-Sprechstunde
DTSTART;TZID=Europe/Berlin:20260114T130000
DTEND;TZID=Europe/Berlin:20260114T140000
DTSTAMP:20260421T015458Z
UID:a3c37d84a33a43499bde54b8a0f8bfa4@www.uni-marburg.de
RRULE:FREQ=WEEKLY;UNTIL=20260412T000000
ATTENDEE;CN="Studienhelfer*innen der SBS";ROLE=REQ-PARTICIPANT:Studienhelf
 er*innen der SBS
CATEGORIES:()
CREATED:20251222T181020Z
DESCRIPTION:https://www.uni-marburg.de/de/studium/service/sbs/aktuelles/te
 rmine/shk/pc-sprechstunde\n
LAST-MODIFIED:20260326T103715Z
LOCATION:Universitätsbibliothek\, Kabinen für Studierende mit Behinderun
 g\, Deutschhausstraße 9
URL:https://www.uni-marburg.de/de/studium/service/sbs/aktuelles/termine/sh
 k/pc-sprechstunde
END:VEVENT
BEGIN:VTIMEZONE
TZID:Europe/Berlin
X-LIC-LOCATION:Europe/Berlin
BEGIN:STANDARD
DTSTART:20251026T020000
TZNAME:CET
TZOFFSETFROM:+0200
TZOFFSETTO:+0100
END:STANDARD
END:VTIMEZONE
END:VCALENDAR
