BEGIN:VCALENDAR
VERSION:2.0
PRODID:-//Plone.org//NONSGML plone.app.event//EN
X-WR-TIMEZONE:Europe/Berlin
BEGIN:VEVENT
SUMMARY:Studienhelfer*innen-Service
DTSTART;TZID=Europe/Berlin:20260114T140000
DTEND;TZID=Europe/Berlin:20260114T173000
DTSTAMP:20260419T171913Z
UID:1a6dde1dbaf94d93a180e58b98e9c7d5@www.uni-marburg.de
RRULE:FREQ=WEEKLY;UNTIL=20261220T000000
ATTENDEE;CN="Studienhelfer*innen der SBS";ROLE=REQ-PARTICIPANT:Studienhelf
 er*innen der SBS
CATEGORIES:()
CREATED:20251222T181020Z
DESCRIPTION:https://www.uni-marburg.de/de/studium/service/sbs/aktuelles/te
 rmine/shk/ub-sprechstunde-mittwoch\n
LAST-MODIFIED:20260112T161602Z
LOCATION:Universitätsbibliothek\, Kabinen für Studierende mit Behinderun
 g\, Deutschhausstraße 9
URL:https://www.uni-marburg.de/de/studium/service/sbs/aktuelles/termine/sh
 k/ub-sprechstunde-mittwoch
END:VEVENT
BEGIN:VTIMEZONE
TZID:Europe/Berlin
X-LIC-LOCATION:Europe/Berlin
BEGIN:DAYLIGHT
DTSTART:20260329T030000
TZNAME:CEST
TZOFFSETFROM:+0100
TZOFFSETTO:+0200
END:DAYLIGHT
END:VTIMEZONE
END:VCALENDAR
