BEGIN:VCALENDAR
VERSION:2.0
PRODID:-//Plone.org//NONSGML plone.app.event//EN
X-WR-TIMEZONE:Europe/Berlin
BEGIN:VEVENT
SUMMARY:AI\, Marketing\, die Künste und der Start in den Beruf
DTSTART;TZID=Europe/Berlin:20250519T160000
DTEND;TZID=Europe/Berlin:20250519T200000
DTSTAMP:20260423T212016Z
UID:3b0327c9ddee46cb8fabf66bb356a9a8@www.uni-marburg.de
ATTENDEE;CN="Dr. Sebastian Schmitt";ROLE=REQ-PARTICIPANT:Dr. Sebastian Sch
 mitt
ATTENDEE;CN="ist Senior Manager Legal & Licenses bei der Verlagsgruppe De 
 Gruyter Brill. Nach seinem Studium der Germanistik, Gräzistik und Japanol
 ogie in Marburg und Yokohama begann er seine Laufbahn im Verlagswesen im L
 ektorat des Peter Lang Verlags. Er war zudem für die S. Fischer Verlage s
 owie die Schweizer Verlage Schwabe und Atrium-Arche im Rechte & Lizenz-Ber
 eich tätig.  ";ROLE=REQ-PARTICIPANT:ist Senior Manager Legal & Licenses b
 ei der Verlagsgruppe De Gruyter Brill. Nach seinem Studium der Germanistik
 , Gräzistik und Japanologie in Marburg und Yokohama begann er seine Laufb
 ahn im Verlagswesen im Lektorat des Peter Lang Verlags. Er war zudem für 
 die S. Fischer Verlage sowie die Schweizer Verlage Schwabe und Atrium-Arch
 e im Rechte & Lizenz-Bereich tätig.  
CREATED:20190827T110716Z
DESCRIPTION:https://www.uni-marburg.de/de/studium/service/zas/aktuelles-te
 rmine/termine-zas/archiv/ai_marketing_etc-sose2025\nOnline-Workshop für S
 tudierende aller Fachbereiche.
LAST-MODIFIED:20260312T075143Z
LOCATION:online - Link wird rechtzeitig bekannt gegeben
URL:https://www.uni-marburg.de/de/studium/service/zas/aktuelles-termine/te
 rmine-zas/archiv/ai_marketing_etc-sose2025
END:VEVENT
BEGIN:VTIMEZONE
TZID:Europe/Berlin
X-LIC-LOCATION:Europe/Berlin
BEGIN:DAYLIGHT
DTSTART:20250330T030000
TZNAME:CEST
TZOFFSETFROM:+0100
TZOFFSETTO:+0200
END:DAYLIGHT
END:VTIMEZONE
END:VCALENDAR
