BEGIN:VCALENDAR
VERSION:2.0
PRODID:-//Plone.org//NONSGML plone.app.event//EN
X-WR-TIMEZONE:Europe/Berlin
BEGIN:VEVENT
SUMMARY:"Zweifel ohne zu verzweifeln"- über Möglichkeiten des Lehramtsst
 udiums und Alternativen zum Lehrberuf
DTSTART;TZID=Europe/Berlin:20240627T141500
DTEND;TZID=Europe/Berlin:20240627T154500
DTSTAMP:20260421T215925Z
UID:947c849bf24e417bb3925cad8aa9a151@www.uni-marburg.de
ATTENDEE;CN="Melanie Schwan & Carolin Reichwald, Referentinnen für profes
 sionsbezogene Beratung am Zentrum für Lehrkräftebildung (ZfL) der Uni Ma
 rburg";ROLE=REQ-PARTICIPANT:Melanie Schwan & Carolin Reichwald, Referentin
 nen für professionsbezogene Beratung am Zentrum für Lehrkräftebildung (
 ZfL) der Uni Marburg
ATTENDEE;CN="Edgar Losse, Berater für akademische Berufe bei der Agentur 
 für Arbeit Marburg";ROLE=REQ-PARTICIPANT:Edgar Losse, Berater für akadem
 ische Berufe bei der Agentur für Arbeit Marburg
ATTENDEE;CN=;ROLE=REQ-PARTICIPANT:
CREATED:20190827T110716Z
DESCRIPTION:https://www.uni-marburg.de/de/studium/service/zas/aktuelles-te
 rmine/termine-zas/archiv/beruf-lehramt_2024\nOnline-Vortrag für Studieren
 de in Kooperation mit dem Zentrum für Lehrkräftebildung (ZfL)
LAST-MODIFIED:20240808T125826Z
LOCATION:Big Blue Button (BBB)
URL:https://www.uni-marburg.de/de/studium/service/zas/aktuelles-termine/te
 rmine-zas/archiv/beruf-lehramt_2024
END:VEVENT
BEGIN:VTIMEZONE
TZID:Europe/Berlin
X-LIC-LOCATION:Europe/Berlin
BEGIN:DAYLIGHT
DTSTART:20240331T030000
TZNAME:CEST
TZOFFSETFROM:+0100
TZOFFSETTO:+0200
END:DAYLIGHT
END:VTIMEZONE
END:VCALENDAR
