BEGIN:VCALENDAR
VERSION:2.0
PRODID:-//Plone.org//NONSGML plone.app.event//EN
X-WR-TIMEZONE:Europe/Berlin
BEGIN:VEVENT
SUMMARY:Selbstbewusst im Bewerbungsgespräch – Mit Körper und Stimme wi
 rken
DTSTART;TZID=Europe/Berlin:20240604T090000
DTEND;TZID=Europe/Berlin:20240604T160000
DTSTAMP:20260424T012204Z
UID:68300be9855a43b797ffe14e7cc5ef7a@www.uni-marburg.de
ATTENDEE;CN="Lisa Fröhlich, M.A. ist Sprechwissenschaftlerin und freiberu
 fliche Kommunikations- und Rhetoriktrainerin und systemische Coachin. Sie 
 arbeitet mit besonderem Fokus auf die körperliche Dimension der Kommunika
 tion. www.froehlich-coaching.de";ROLE=REQ-PARTICIPANT:Lisa Fröhlich, M.A.
  ist Sprechwissenschaftlerin und freiberufliche Kommunikations- und Rhetor
 iktrainerin und systemische Coachin. Sie arbeitet mit besonderem Fokus auf
  die körperliche Dimension der Kommunikation. www.froehlich-coaching.de
ATTENDEE;CN=;ROLE=REQ-PARTICIPANT:
CREATED:20190827T110716Z
DESCRIPTION:https://www.uni-marburg.de/de/studium/service/zas/aktuelles-te
 rmine/termine-zas/archiv/bewerbungsgespr_sose2024\nPräsenz-Workshop für 
 Studierende aller Fachbereiche
LAST-MODIFIED:20240808T125830Z
LOCATION:Wilhelm-Röpke-Straße 6\, Geisteswissenschaftliche Institute\, B
 lock B\, Seminarraum 03B07
URL:https://www.uni-marburg.de/de/studium/service/zas/aktuelles-termine/te
 rmine-zas/archiv/bewerbungsgespr_sose2024
END:VEVENT
BEGIN:VTIMEZONE
TZID:Europe/Berlin
X-LIC-LOCATION:Europe/Berlin
BEGIN:DAYLIGHT
DTSTART:20240331T030000
TZNAME:CEST
TZOFFSETFROM:+0100
TZOFFSETTO:+0200
END:DAYLIGHT
END:VTIMEZONE
END:VCALENDAR
