BEGIN:VCALENDAR
VERSION:2.0
PRODID:-//Plone.org//NONSGML plone.app.event//EN
X-WR-TIMEZONE:Europe/Berlin
BEGIN:VEVENT
SUMMARY:Auf Jobjagd! Berufseinstieg in Deutschland für internationale Stu
 dierende
DTSTART;TZID=Europe/Berlin:20260625T140000
DTEND;TZID=Europe/Berlin:20260625T170000
DTSTAMP:20260424T113150Z
UID:7e6825262fbf4ce3938ec3916a09907f@www.uni-marburg.de
ATTENDEE;CN="Julia Kislat (International Office/Career Service der Philipp
 s-Universität Marburg)";ROLE=REQ-PARTICIPANT:Julia Kislat (International 
 Office/Career Service der Philipps-Universität Marburg)
ATTENDEE;CN="Leo Winnubst (Studienbegleitprogramm – STUBE Hessen, World 
 University Service)";ROLE=REQ-PARTICIPANT:Leo Winnubst (Studienbegleitprog
 ramm – STUBE Hessen, World University Service)
ATTENDEE;CN="Bettina Zietz (Agentur für Arbeit Marburg)";ROLE=REQ-PARTICI
 PANT:Bettina Zietz (Agentur für Arbeit Marburg)
ATTENDEE;CN="Bouchra Vonhausen (Ausländerbehörde Marburg) ";ROLE=REQ-PAR
 TICIPANT:Bouchra Vonhausen (Ausländerbehörde Marburg) 
CATEGORIES:()
CREATED:20190827T110716Z
DESCRIPTION:https://www.uni-marburg.de/de/studium/service/zas/aktuelles-te
 rmine/termine-zas/auf-jobjagd-berufseinstieg-in-deutschland\nEine Kooperat
 ionsveranstaltung von STUBE Hessen\, dem International Office und dem Care
 er Service der Philipps-Universität Marburg für internationale Studieren
 de aller Fachbereiche (Degree-Seeker).
LAST-MODIFIED:20260326T064102Z
LOCATION:Hörsaal 109\, Deutschhausstraße 3\, 35037 Marburg
URL:https://www.uni-marburg.de/de/studium/service/zas/aktuelles-termine/te
 rmine-zas/auf-jobjagd-berufseinstieg-in-deutschland
END:VEVENT
BEGIN:VTIMEZONE
TZID:Europe/Berlin
X-LIC-LOCATION:Europe/Berlin
BEGIN:DAYLIGHT
DTSTART:20260329T030000
TZNAME:CEST
TZOFFSETFROM:+0100
TZOFFSETTO:+0200
END:DAYLIGHT
END:VTIMEZONE
END:VCALENDAR
