BEGIN:VCALENDAR
VERSION:2.0
PRODID:-//Plone.org//NONSGML plone.app.event//EN
X-WR-TIMEZONE:Europe/Berlin
BEGIN:VEVENT
SUMMARY:Lebenslauf für die Bewerbung: aktuell und aussagekräftig
DTSTART;TZID=Europe/Berlin:20260708T131500
DTEND;TZID=Europe/Berlin:20260708T134500
DTSTAMP:20260421T132929Z
UID:2bca783a28c04f4a97ecb7ba959b6e0c@www.uni-marburg.de
ATTENDEE;CN="Career Service ";ROLE=REQ-PARTICIPANT:Career Service 
CATEGORIES:()
CREATED:20190827T110716Z
DESCRIPTION:https://www.uni-marburg.de/de/studium/service/zas/aktuelles-te
 rmine/termine-zas/flash-talk-lebenslauf_sose2026\nFlash Talks - Bewerben i
 n Deutschland
LAST-MODIFIED:20260310T124814Z
LOCATION:online - Link wird rechtzeitig bekannt gegeben
URL:https://www.uni-marburg.de/de/studium/service/zas/aktuelles-termine/te
 rmine-zas/flash-talk-lebenslauf_sose2026
END:VEVENT
BEGIN:VTIMEZONE
TZID:Europe/Berlin
X-LIC-LOCATION:Europe/Berlin
BEGIN:DAYLIGHT
DTSTART:20260329T030000
TZNAME:CEST
TZOFFSETFROM:+0100
TZOFFSETTO:+0200
END:DAYLIGHT
END:VTIMEZONE
END:VCALENDAR
