BEGIN:VCALENDAR
VERSION:2.0
PRODID:-//Plone.org//NONSGML plone.app.event//EN
X-WR-TIMEZONE:Europe/Berlin
BEGIN:VEVENT
SUMMARY:Profilbildung im Studium: So kannst du deinen Berufseinstieg vorbe
 reiten
DTSTART;TZID=Europe/Berlin:20260610T131500
DTEND;TZID=Europe/Berlin:20260610T134500
DTSTAMP:20260420T145604Z
UID:6775e147d99a448fbb6b9cb6353d1a6f@www.uni-marburg.de
ATTENDEE;CN="Career Service ";ROLE=REQ-PARTICIPANT:Career Service 
CATEGORIES:()
CREATED:20190827T110716Z
DESCRIPTION:https://www.uni-marburg.de/de/studium/service/zas/aktuelles-te
 rmine/termine-zas/flash-talk-profilbildung_sose2026\nFlash Talks - Bewerbe
 n in Deutschland
LAST-MODIFIED:20260310T123624Z
LOCATION:online - Link wird rechtzeitig bekannt gegeben
URL:https://www.uni-marburg.de/de/studium/service/zas/aktuelles-termine/te
 rmine-zas/flash-talk-profilbildung_sose2026
END:VEVENT
BEGIN:VTIMEZONE
TZID:Europe/Berlin
X-LIC-LOCATION:Europe/Berlin
BEGIN:DAYLIGHT
DTSTART:20260329T030000
TZNAME:CEST
TZOFFSETFROM:+0100
TZOFFSETTO:+0200
END:DAYLIGHT
END:VTIMEZONE
END:VCALENDAR
