BEGIN:VCALENDAR
VERSION:2.0
PRODID:-//Plone.org//NONSGML plone.app.event//EN
X-WR-TIMEZONE:Europe/Berlin
BEGIN:VEVENT
SUMMARY:Gut vorbereitet ins Gehaltsgespräch – Souverän zum Wunschgehal
 t
DTSTART;TZID=Europe/Berlin:20260519T150000
DTEND;TZID=Europe/Berlin:20260519T170000
DTSTAMP:20260421T132922Z
UID:2d89b56727b3451a820ad0359712225a@www.uni-marburg.de
ATTENDEE;CN="Kristian Schubert ist Trainer und zertiﬁ zierter Coach (dvc
 t) für beruﬂiche und persönliche ";ROLE=REQ-PARTICIPANT:Kristian Schub
 ert ist Trainer und zertiﬁ zierter Coach (dvct) für beruﬂiche und per
 sönliche 
ATTENDEE;CN="Entwicklung mit über 15 Jahren Seminarerfahrung. Sein Fokus 
 liegt auf der praxisnahen ";ROLE=REQ-PARTICIPANT:Entwicklung mit über 15 
 Jahren Seminarerfahrung. Sein Fokus liegt auf der praxisnahen 
ATTENDEE;CN="Qualiﬁ zierung von Studierenden für den Berufseinstieg. Au
 s eigener Erfahrung weiß er, wie ";ROLE=REQ-PARTICIPANT:Qualiﬁ zierung 
 von Studierenden für den Berufseinstieg. Aus eigener Erfahrung weiß er, 
 wie 
ATTENDEE;CN="maßgeblich der Berufseinstieg die weitere Laufbahn prägt un
 d wie sehr eine gezielte, ";ROLE=REQ-PARTICIPANT:maßgeblich der Berufsein
 stieg die weitere Laufbahn prägt und wie sehr eine gezielte, 
ATTENDEE;CN="praxisnahe Vorbereitung dabei zum entscheidenden Erfolgsfakto
 r wird.  ";ROLE=REQ-PARTICIPANT:praxisnahe Vorbereitung dabei zum entschei
 denden Erfolgsfaktor wird.  
ATTENDEE;CN="Als ehemaliger Projekt- und Vertriebsleiter im internationale
 n Maschinen- und Anlagenbau ";ROLE=REQ-PARTICIPANT:Als ehemaliger Projekt-
  und Vertriebsleiter im internationalen Maschinen- und Anlagenbau 
ATTENDEE;CN="bringt er mehrjährige Führungserfahrung sowie fundiertes In
 dustrie-Know-how mit. Er ist ";ROLE=REQ-PARTICIPANT:bringt er mehrjährige
  Führungserfahrung sowie fundiertes Industrie-Know-how mit. Er ist 
ATTENDEE;CN="Ingenieur (M.Sc., TU Berlin). ";ROLE=REQ-PARTICIPANT:Ingenieu
 r (M.Sc., TU Berlin). 
ATTENDEE;CN="Homepage: www.kristianschubert.de  |  LinkedIn: www.linkedin.
 com/in/kristian-schubert/ ";ROLE=REQ-PARTICIPANT:Homepage: www.kristiansch
 ubert.de  |  LinkedIn: www.linkedin.com/in/kristian-schubert/ 
CATEGORIES:()
CREATED:20190827T110716Z
DESCRIPTION:https://www.uni-marburg.de/de/studium/service/zas/aktuelles-te
 rmine/termine-zas/gehaltsgepraechsose2026\nOnline-Workshop für Studierend
 e aller Fachbereiche
LAST-MODIFIED:20260310T122338Z
LOCATION:Zoom - Link wird rechtzeitig bekannt gegeben
URL:https://www.uni-marburg.de/de/studium/service/zas/aktuelles-termine/te
 rmine-zas/gehaltsgepraechsose2026
END:VEVENT
BEGIN:VTIMEZONE
TZID:Europe/Berlin
X-LIC-LOCATION:Europe/Berlin
BEGIN:DAYLIGHT
DTSTART:20260329T030000
TZNAME:CEST
TZOFFSETFROM:+0100
TZOFFSETTO:+0200
END:DAYLIGHT
END:VTIMEZONE
END:VCALENDAR
