BEGIN:VCALENDAR
VERSION:2.0
PRODID:-//Plone.org//NONSGML plone.app.event//EN
X-WR-TIMEZONE:Europe/Berlin
BEGIN:VEVENT
SUMMARY:Handwerkszeug für den Berufseinstieg für Studierende der Geistes
 -\, Kultur- und Sprachwissenschaften
DTSTART;TZID=Europe/Berlin:20260421T090000
DTEND;TZID=Europe/Berlin:20260421T130000
DTSTAMP:20260420T164214Z
UID:aeadccbd1eed44e0960cc37acd14e7ff@www.uni-marburg.de
ATTENDEE;CN="Wolfgang Leybold ist Unternehmer mit langjähriger Beratungse
 rfahrung im Recruiting. Er arbeitet als Trainer im In- und Ausland (Großb
 ritannien, Irland, Öster-reich, USA) und ist Lehrbuchautor im Springer Na
 ture Verlag.";ROLE=REQ-PARTICIPANT:Wolfgang Leybold ist Unternehmer mit la
 ngjähriger Beratungserfahrung im Recruiting. Er arbeitet als Trainer im I
 n- und Ausland (Großbritannien, Irland, Öster-reich, USA) und ist Lehrbu
 chautor im Springer Nature Verlag.
CATEGORIES:()
CREATED:20190827T110716Z
DESCRIPTION:https://www.uni-marburg.de/de/studium/service/zas/aktuelles-te
 rmine/termine-zas/handwerkszeugsose2026\nOnline-Workshop für Studierende 
 der Geistes-\, Kultur- und Sprachwissenschaften
LAST-MODIFIED:20260309T133804Z
LOCATION:Zoom - Link wird rechtzeitig bekannt gegeben
URL:https://www.uni-marburg.de/de/studium/service/zas/aktuelles-termine/te
 rmine-zas/handwerkszeugsose2026
END:VEVENT
BEGIN:VTIMEZONE
TZID:Europe/Berlin
X-LIC-LOCATION:Europe/Berlin
BEGIN:DAYLIGHT
DTSTART:20260329T030000
TZNAME:CEST
TZOFFSETFROM:+0100
TZOFFSETTO:+0200
END:DAYLIGHT
END:VTIMEZONE
END:VCALENDAR
