BEGIN:VCALENDAR
VERSION:2.0
PRODID:-//Plone.org//NONSGML plone.app.event//EN
X-WR-TIMEZONE:Europe/Berlin
BEGIN:VEVENT
SUMMARY:How to enter the German job market – A general overview about th
 e Application Procedure
DTSTART;TZID=Europe/Berlin:20260522T100000
DTEND;TZID=Europe/Berlin:20260522T140000
DTSTAMP:20260424T135719Z
UID:5ff5d6fa412e40b0b4bcffa320c678ea@www.uni-marburg.de
ATTENDEE;CN="Trainer: Sandra Bolesch is a freelance career coach and has b
 een working as a social advisor for international students at FH Dortmund 
 since 2020. In this role, she helps new students in Germany to better unde
 rstand German culture, including campus life at a German university and th
 e German job market.";ROLE=REQ-PARTICIPANT:Trainer: Sandra Bolesch is a fr
 eelance career coach and has been working as a social advisor for internat
 ional students at FH Dortmund since 2020. In this role, she helps new stud
 ents in Germany to better understand German culture, including campus life
  at a German university and the German job market.
CATEGORIES:()
CREATED:20190827T110716Z
DESCRIPTION:https://www.uni-marburg.de/de/studium/service/zas/aktuelles-te
 rmine/termine-zas/how-to-enter-the-german-job-market\nIn-person workshop f
 or all international degree seeking students from all fields of study.
LAST-MODIFIED:20260324T095643Z
LOCATION:in-person - place announcement after logging into ILIAS
URL:https://www.uni-marburg.de/de/studium/service/zas/aktuelles-termine/te
 rmine-zas/how-to-enter-the-german-job-market
END:VEVENT
BEGIN:VTIMEZONE
TZID:Europe/Berlin
X-LIC-LOCATION:Europe/Berlin
BEGIN:DAYLIGHT
DTSTART:20260329T030000
TZNAME:CEST
TZOFFSETFROM:+0100
TZOFFSETTO:+0200
END:DAYLIGHT
END:VTIMEZONE
END:VCALENDAR
