BEGIN:VCALENDAR
VERSION:2.0
PRODID:-//Plone.org//NONSGML plone.app.event//EN
X-WR-TIMEZONE:Europe/Berlin
BEGIN:VEVENT
SUMMARY:How to make the most of your internship
DTSTART;TZID=Europe/Berlin:20260506T100000
DTEND;TZID=Europe/Berlin:20260506T130000
DTSTAMP:20260424T085150Z
UID:09e25f988ad04155815bcf5c7d1ecc7c@www.uni-marburg.de
ATTENDEE;CN="Trainer: Mona Rakel is a Career Advisor, Coach and Trainer an
 d studied life coaching at the German University for Health and Sport and 
 completed further training as a horse-assisted coach. She has experience i
 n management consulting as well as in organisational and personnel develop
 ment. She works as a coach and trainer, focusing on application processes,
  career reorientation, communication, stress and self-management, resilien
 ce, and time management.";ROLE=REQ-PARTICIPANT:Trainer: Mona Rakel is a Ca
 reer Advisor, Coach and Trainer and studied life coaching at the German Un
 iversity for Health and Sport and completed further training as a horse-as
 sisted coach. She has experience in management consulting as well as in or
 ganisational and personnel development. She works as a coach and trainer, 
 focusing on application processes, career reorientation, communication, st
 ress and self-management, resilience, and time management.
CATEGORIES:()
CREATED:20190827T110716Z
DESCRIPTION:https://www.uni-marburg.de/de/studium/service/zas/aktuelles-te
 rmine/termine-zas/how-to-make-the-most-of-your-internship\nOnline workshop
  for all international degree seeking students from all fields of study.
LAST-MODIFIED:20260324T095627Z
LOCATION:online - link access after logging into ILIAS
URL:https://www.uni-marburg.de/de/studium/service/zas/aktuelles-termine/te
 rmine-zas/how-to-make-the-most-of-your-internship
END:VEVENT
BEGIN:VTIMEZONE
TZID:Europe/Berlin
X-LIC-LOCATION:Europe/Berlin
BEGIN:DAYLIGHT
DTSTART:20260329T030000
TZNAME:CEST
TZOFFSETFROM:+0100
TZOFFSETTO:+0200
END:DAYLIGHT
END:VTIMEZONE
END:VCALENDAR
