BEGIN:VCALENDAR
VERSION:2.0
PRODID:-//Plone.org//NONSGML plone.app.event//EN
X-WR-TIMEZONE:Europe/Berlin
BEGIN:VEVENT
SUMMARY:Crashkurs LinkedIn & berufliches Netzwerken
DTSTART;TZID=Europe/Berlin:20260428T160000
DTEND;TZID=Europe/Berlin:20260428T190000
DTSTAMP:20260421T083746Z
UID:fe8b8f8adefe461d8ac661b18d1b60fa@www.uni-marburg.de
ATTENDEE;CN="Britta Bollermann, systemische Coachin (IHK) (DGTA) & Trainer
 in für berufliches Netzwerken";ROLE=REQ-PARTICIPANT:Britta Bollermann, sy
 stemische Coachin (IHK) (DGTA) & Trainerin für berufliches Netzwerken
CATEGORIES:()
CREATED:20190827T110716Z
DESCRIPTION:https://www.uni-marburg.de/de/studium/service/zas/aktuelles-te
 rmine/termine-zas/linkedinsose2026\nOnline-Workshop für Studierende aller
  Fachbereiche
LAST-MODIFIED:20260310T121621Z
LOCATION:BigBlueButton (BBB) - Link wird rechtzeitig bekannt gegeben
URL:https://www.uni-marburg.de/de/studium/service/zas/aktuelles-termine/te
 rmine-zas/linkedinsose2026
END:VEVENT
BEGIN:VTIMEZONE
TZID:Europe/Berlin
X-LIC-LOCATION:Europe/Berlin
BEGIN:DAYLIGHT
DTSTART:20260329T030000
TZNAME:CEST
TZOFFSETFROM:+0100
TZOFFSETTO:+0200
END:DAYLIGHT
END:VTIMEZONE
END:VCALENDAR
