BEGIN:VCALENDAR
VERSION:2.0
PRODID:-//Plone.org//NONSGML plone.app.event//EN
X-WR-TIMEZONE:Europe/Berlin
BEGIN:VEVENT
SUMMARY:Professional networking in Germany for International Students
DTSTART;TZID=Europe/Berlin:20260608T150000
DTEND;TZID=Europe/Berlin:20260608T190000
DTSTAMP:20260421T060406Z
UID:44221e2fe4fe46f69cf35dea0b2e8b2a@www.uni-marburg.de
ATTENDEE;CN="Trainer: Kristian Schubert is a certified trainer and coach (
 dvct) with over 15 years of experience in designing and delivering seminar
 s in professional and personal development. He has held teaching positions
  at various universities, including HAWK, Ostfalia University, and TH Wild
 au. He also has many years of leadership experience in international engin
 eering and holds a Master’s degree in engineering from TU Berlin.";ROLE=
 REQ-PARTICIPANT:Trainer: Kristian Schubert is a certified trainer and coac
 h (dvct) with over 15 years of experience in designing and delivering semi
 nars in professional and personal development. He has held teaching positi
 ons at various universities, including HAWK, Ostfalia University, and TH W
 ildau. He also has many years of leadership experience in international en
 gineering and holds a Master’s degree in engineering from TU Berlin.
CATEGORIES:()
CREATED:20190827T110716Z
DESCRIPTION:https://www.uni-marburg.de/de/studium/service/zas/aktuelles-te
 rmine/termine-zas/networking-in-germany-for-international-students\nOnline
  workshop for all international degree seeking students from all fields of
  study.
LAST-MODIFIED:20260324T095704Z
LOCATION:online - link access after logging into ILIAS
URL:https://www.uni-marburg.de/de/studium/service/zas/aktuelles-termine/te
 rmine-zas/networking-in-germany-for-international-students
END:VEVENT
BEGIN:VTIMEZONE
TZID:Europe/Berlin
X-LIC-LOCATION:Europe/Berlin
BEGIN:DAYLIGHT
DTSTART:20260329T030000
TZNAME:CEST
TZOFFSETFROM:+0100
TZOFFSETTO:+0200
END:DAYLIGHT
END:VTIMEZONE
END:VCALENDAR
