BEGIN:VCALENDAR
VERSION:2.0
PRODID:-//Plone.org//NONSGML plone.app.event//EN
X-WR-TIMEZONE:Europe/Berlin
BEGIN:VEVENT
SUMMARY:Projektmanagement-Skills für Studierende
DTSTART;TZID=Europe/Berlin:20260427T170000
DTEND;TZID=Europe/Berlin:20260427T190000
DTSTAMP:20260420T015746Z
UID:8ede725cf70f431f889ee3c51b18ff3b@www.uni-marburg.de
ATTENDEE;CN="Kristian Schubert, Trainer und zertifizierter Coach (dvct) f
 ür berufliche und persönliche Entwicklung ";ROLE=REQ-PARTICIPANT:Kristia
 n Schubert, Trainer und zertifizierter Coach (dvct) für berufliche und pe
 rsönliche Entwicklung 
CATEGORIES:()
CREATED:20180731T141201Z
DESCRIPTION:https://www.uni-marburg.de/de/studium/service/zas/study-skills
 -termine/sose-2026/einfuehrung-projektmanagement\nZweiteiliger Workshop: M
 o\, 27.04. und 04.05.2026\, jeweils 17:00 c.t.-19:00 Uhr - für Studierend
 e aller Fachbereiche
LAST-MODIFIED:20260402T080159Z
LOCATION:online - Link wird rechtzeitig bekannt gegeben
URL:https://www.uni-marburg.de/de/studium/service/zas/study-skills-termine
 /sose-2026/einfuehrung-projektmanagement
END:VEVENT
BEGIN:VTIMEZONE
TZID:Europe/Berlin
X-LIC-LOCATION:Europe/Berlin
BEGIN:DAYLIGHT
DTSTART:20260329T030000
TZNAME:CEST
TZOFFSETFROM:+0100
TZOFFSETTO:+0200
END:DAYLIGHT
END:VTIMEZONE
END:VCALENDAR
