BEGIN:VCALENDAR
VERSION:2.0
PRODID:-//Plone.org//NONSGML plone.app.event//EN
X-WR-TIMEZONE:Europe/Berlin
BEGIN:VEVENT
SUMMARY:Tipps und Tricks zum Umgang mit Aufregung in Vorträgen\, Referate
 n und Prüfungsgesprächen
DTSTART;TZID=Europe/Berlin:20260508T100000
DTEND;TZID=Europe/Berlin:20260508T130000
DTSTAMP:20260421T111705Z
UID:3444f4b49cbb40f6be1ed3bd20d33173@www.uni-marburg.de
ATTENDEE;CN="Lisa Fröhlich, M.A., Sprechwissenschaftlerin, Kommunikations
 - und Rhetoriktrainerin, systemischer Coach (DGSF), www.froehlich-coaching
 .de";ROLE=REQ-PARTICIPANT:Lisa Fröhlich, M.A., Sprechwissenschaftlerin, K
 ommunikations- und Rhetoriktrainerin, systemischer Coach (DGSF), www.froeh
 lich-coaching.de
CATEGORIES:()
CREATED:20180731T141201Z
DESCRIPTION:https://www.uni-marburg.de/de/studium/service/zas/study-skills
 -termine/sose-2026/selbstregulation-bei-lampenfieber\nSelbstregulation bei
  Lampenfieber - Workshop für alle Studierenden
LAST-MODIFIED:20260325T142529Z
LOCATION:Senatssitzungssaal 003\, Biegenstr. 12 (gleiches Gebäude wie Spr
 achenzentrum)
URL:https://www.uni-marburg.de/de/studium/service/zas/study-skills-termine
 /sose-2026/selbstregulation-bei-lampenfieber
END:VEVENT
BEGIN:VTIMEZONE
TZID:Europe/Berlin
X-LIC-LOCATION:Europe/Berlin
BEGIN:DAYLIGHT
DTSTART:20260329T030000
TZNAME:CEST
TZOFFSETFROM:+0100
TZOFFSETTO:+0200
END:DAYLIGHT
END:VTIMEZONE
END:VCALENDAR
