BEGIN:VCALENDAR
VERSION:2.0
PRODID:-//Plone.org//NONSGML plone.app.event//EN
X-WR-TIMEZONE:Europe/Berlin
BEGIN:VEVENT
SUMMARY:Stress und Stressbewältigung
DTSTART;TZID=Europe/Berlin:20260429T120000
DTEND;TZID=Europe/Berlin:20260429T140000
DTSTAMP:20260424T032422Z
UID:1a517b40cbe34de6a88d8f77065d98cd@www.uni-marburg.de
RRULE:FREQ=WEEKLY;UNTIL=20260930T000000;BYDAY=WE
ATTENDEE;CN="Dipl. Psych. Peter Martin Nord";ROLE=REQ-PARTICIPANT:Dipl. Ps
 ych. Peter Martin Nord
CATEGORIES:()
CREATED:20251216T103419Z
DESCRIPTION:https://www.uni-marburg.de/de/studium/service/zas/study-skills
 -termine/sose-2026/stress-und-stressbewaeltigung\nfür alle Studierenden u
 nd Promovierenden der Philipps-Universität Marburg
LAST-MODIFIED:20260423T101936Z
LOCATION:Seminarraum 013\, Biegenstr. 9
URL:https://www.uni-marburg.de/de/studium/service/zas/study-skills-termine
 /sose-2026/stress-und-stressbewaeltigung
END:VEVENT
BEGIN:VTIMEZONE
TZID:Europe/Berlin
X-LIC-LOCATION:Europe/Berlin
BEGIN:DAYLIGHT
DTSTART:20260329T030000
TZNAME:CEST
TZOFFSETFROM:+0100
TZOFFSETTO:+0200
END:DAYLIGHT
END:VTIMEZONE
END:VCALENDAR
