BEGIN:VCALENDAR
VERSION:2.0
PRODID:-//Plone.org//NONSGML plone.app.event//EN
X-WR-TIMEZONE:Europe/Berlin
BEGIN:VEVENT
SUMMARY:Ausstellungseröffnung Hans Schohl: Schatten | Fliegen
DTSTART;TZID=Europe/Berlin:20221115T180000
DTEND;TZID=Europe/Berlin:20221115T200000
DTSTAMP:20260423T161624Z
UID:1bd519378b854565a9181b4d4fd1d8be@www.uni-marburg.de
ATTENDEE;CN="Grußwort: Bibliotheksdirektorin Dr. Andrea Wolff-Wölk";ROLE
 =REQ-PARTICIPANT:Grußwort: Bibliotheksdirektorin Dr. Andrea Wolff-Wölk
ATTENDEE;CN="Einführung: Ulrike Schönhagen";ROLE=REQ-PARTICIPANT:Einfüh
 rung: Ulrike Schönhagen
ATTENDEE;CN=;ROLE=REQ-PARTICIPANT:
ATTENDEE;CN="Im Anschluss Auszüge aus „Peter Schlemihls wundersame Gesc
 hichte“ vorgetragen von Studierenden des Masterstudiengangs Sprechwissen
 schaft mit: ";ROLE=REQ-PARTICIPANT:Im Anschluss Auszüge aus „Peter Schl
 emihls wundersame Geschichte“ vorgetragen von Studierenden des Masterstu
 diengangs Sprechwissenschaft mit: 
ATTENDEE;CN="Nelson Christopher Frey, Sabine Geschka, Stefanie Martin, Kat
 harina Rink, Francisca Sophie Steck. Leitung: Nicole Horny";ROLE=REQ-PARTI
 CIPANT:Nelson Christopher Frey, Sabine Geschka, Stefanie Martin, Katharina
  Rink, Francisca Sophie Steck. Leitung: Nicole Horny
ATTENDEE;CN=;ROLE=REQ-PARTICIPANT:
CREATED:20221111T142025Z
DESCRIPTION:https://www.uni-marburg.de/de/ub/aktuelles/termine/ausstellung
 seroeffnung-hans-schohl-schatten-fliegen\nAls Teil der an mehreren Standor
 ten gezeigten Ausstellung von Hans Schohl „… und Schatten. Eine Langze
 itbeobachtung“ stellt der Künstler in der Universitätsbibliothek eine 
 Auswahl von Objekten aus\, die Bezug zu Literatur und Wissenschaft nehmen.
LAST-MODIFIED:20221111T142048Z
LOCATION:Universitätsbibliothek Marburg
URL:https://www.uni-marburg.de/de/ub/aktuelles/termine/ausstellungseroeffn
 ung-hans-schohl-schatten-fliegen
END:VEVENT
BEGIN:VTIMEZONE
TZID:Europe/Berlin
X-LIC-LOCATION:Europe/Berlin
BEGIN:STANDARD
DTSTART:20221030T020000
TZNAME:CET
TZOFFSETFROM:+0200
TZOFFSETTO:+0100
END:STANDARD
END:VTIMEZONE
END:VCALENDAR
