BEGIN:VCALENDAR
VERSION:2.0
PRODID:-//Plone.org//NONSGML plone.app.event//EN
X-WR-TIMEZONE:Europe/Berlin
BEGIN:VEVENT
SUMMARY:CoCreate: Wissen gemeinsam organisieren - Open Science
DTSTART;TZID=Europe/Berlin:20251218T143000
DTEND;TZID=Europe/Berlin:20251218T200000
DTSTAMP:20260423T231911Z
UID:86ca7ab7da6347b1af8b6d3050549aa4@www.uni-marburg.de
CREATED:20251017T135334Z
DESCRIPTION:https://www.uni-marburg.de/de/ub/aktuelles/termine/cocreate-wi
 ssen-gemeinsam-organisieren-open-science\n
LAST-MODIFIED:20251020T160951Z
LOCATION:Zentrale Universitätsbibliothek
URL:https://www.uni-marburg.de/de/ub/aktuelles/termine/cocreate-wissen-gem
 einsam-organisieren-open-science
END:VEVENT
BEGIN:VTIMEZONE
TZID:Europe/Berlin
X-LIC-LOCATION:Europe/Berlin
BEGIN:STANDARD
DTSTART:20251026T020000
TZNAME:CET
TZOFFSETFROM:+0200
TZOFFSETTO:+0100
END:STANDARD
END:VTIMEZONE
END:VCALENDAR
