BEGIN:VCALENDAR
VERSION:2.0
PRODID:-//Plone.org//NONSGML plone.app.event//EN
X-WR-TIMEZONE:Europe/Berlin
BEGIN:VEVENT
SUMMARY:Tipps und Tricks für die Literaturrecherche (Coffee Lecture)
DTSTART;TZID=Europe/Berlin:20260602T140000
DTEND;TZID=Europe/Berlin:20260602T143000
DTSTAMP:20260420T074951Z
UID:cda34ba54b3341fba6ed22fbe2de0b27@www.uni-marburg.de
ATTENDEE;CN="Lisanne Kersten, Lernzentrum UB Uni Marburg";ROLE=REQ-PARTICI
 PANT:Lisanne Kersten, Lernzentrum UB Uni Marburg
CATEGORIES:Coffee Lectures
CREATED:20230309T120046Z
DESCRIPTION:https://www.uni-marburg.de/de/ub/aktuelles/termine/coffee-lect
 ures-sose-2026/coffee-lecture-02-06-2026\n
LAST-MODIFIED:20260326T133534Z
LOCATION:Online via Big Blue Button
URL:https://www.uni-marburg.de/de/ub/aktuelles/termine/coffee-lectures-sos
 e-2026/coffee-lecture-02-06-2026
END:VEVENT
BEGIN:VTIMEZONE
TZID:Europe/Berlin
X-LIC-LOCATION:Europe/Berlin
BEGIN:DAYLIGHT
DTSTART:20260329T030000
TZNAME:CEST
TZOFFSETFROM:+0100
TZOFFSETTO:+0200
END:DAYLIGHT
END:VTIMEZONE
END:VCALENDAR
