BEGIN:VCALENDAR
VERSION:2.0
PRODID:-//Plone.org//NONSGML plone.app.event//EN
X-WR-TIMEZONE:Europe/Berlin
BEGIN:VEVENT
SUMMARY:KI statt Tutorium?!? (Coffee Lecture)
DTSTART;TZID=Europe/Berlin:20260505T140000
DTEND;TZID=Europe/Berlin:20260505T143000
DTSTAMP:20260419T215157Z
UID:d4c14e176d3a45bd8300e0a903576b16@www.uni-marburg.de
ATTENDEE;CN="Johann Reiferscheid, Referat für Lehrentwicklung und Hochsch
 uldidaktik";ROLE=REQ-PARTICIPANT:Johann Reiferscheid, Referat für Lehrent
 wicklung und Hochschuldidaktik
CATEGORIES:Coffee Lectures
CREATED:20230309T120046Z
DESCRIPTION:https://www.uni-marburg.de/de/ub/aktuelles/termine/coffee-lect
 ures-sose-2026/coffee-lecture-05-05-2026\n
LAST-MODIFIED:20260415T125247Z
LOCATION:Online via Big Blue Button
URL:https://www.uni-marburg.de/de/ub/aktuelles/termine/coffee-lectures-sos
 e-2026/coffee-lecture-05-05-2026
END:VEVENT
BEGIN:VTIMEZONE
TZID:Europe/Berlin
X-LIC-LOCATION:Europe/Berlin
BEGIN:DAYLIGHT
DTSTART:20260329T030000
TZNAME:CEST
TZOFFSETFROM:+0100
TZOFFSETTO:+0200
END:DAYLIGHT
END:VTIMEZONE
END:VCALENDAR
