BEGIN:VCALENDAR
VERSION:2.0
PRODID:-//Plone.org//NONSGML plone.app.event//EN
X-WR-TIMEZONE:Europe/Berlin
BEGIN:VEVENT
SUMMARY:Creative Commons-Lizenzen (Coffee Lecture)
DTSTART;TZID=Europe/Berlin:20260616T140000
DTEND;TZID=Europe/Berlin:20260616T143000
DTSTAMP:20260420T101456Z
UID:b0580ce3e4ab49de8bc628444c67374f@www.uni-marburg.de
ATTENDEE;CN="Stefan Cravcisin, Digitalisierung und Metadaten UB Uni Marbur
 g";ROLE=REQ-PARTICIPANT:Stefan Cravcisin, Digitalisierung und Metadaten UB
  Uni Marburg
CATEGORIES:Coffee Lectures
CREATED:20230309T120046Z
DESCRIPTION:https://www.uni-marburg.de/de/ub/aktuelles/termine/coffee-lect
 ures-sose-2026/coffee-lecture-16-06-2026\n
LAST-MODIFIED:20260326T133704Z
LOCATION:Online via Big Blue Button
URL:https://www.uni-marburg.de/de/ub/aktuelles/termine/coffee-lectures-sos
 e-2026/coffee-lecture-16-06-2026
END:VEVENT
BEGIN:VTIMEZONE
TZID:Europe/Berlin
X-LIC-LOCATION:Europe/Berlin
BEGIN:DAYLIGHT
DTSTART:20260329T030000
TZNAME:CEST
TZOFFSETFROM:+0100
TZOFFSETTO:+0200
END:DAYLIGHT
END:VTIMEZONE
END:VCALENDAR
