BEGIN:VCALENDAR
VERSION:2.0
PRODID:-//Plone.org//NONSGML plone.app.event//EN
X-WR-TIMEZONE:Europe/Berlin
BEGIN:VEVENT
SUMMARY:Präzises Lesen und Argumentieren\, exakt eingehen auf Fragen/Frag
 estellungen inklusive deren Operatoren in Prüfungen (Coffee Lecture)
DTSTART;TZID=Europe/Berlin:20260421T140000
DTEND;TZID=Europe/Berlin:20260421T143000
DTSTAMP:20260420T091039Z
UID:19aaf7beb1844ba7b76250c20da70c6b@www.uni-marburg.de
ATTENDEE;CN="Lena Krüger, Hauke Marxen & Alexander Schmoldt, Brüder Grim
 m Debattierclub Marburg e.V.";ROLE=REQ-PARTICIPANT:Lena Krüger, Hauke Mar
 xen & Alexander Schmoldt, Brüder Grimm Debattierclub Marburg e.V.
CATEGORIES:Coffee Lectures
CREATED:20230309T120046Z
DESCRIPTION:https://www.uni-marburg.de/de/ub/aktuelles/termine/coffee-lect
 ures-sose-2026/coffee-lecture-21-04-2026\n
LAST-MODIFIED:20260326T135033Z
LOCATION:Online via Big Blue Button
URL:https://www.uni-marburg.de/de/ub/aktuelles/termine/coffee-lectures-sos
 e-2026/coffee-lecture-21-04-2026
END:VEVENT
BEGIN:VTIMEZONE
TZID:Europe/Berlin
X-LIC-LOCATION:Europe/Berlin
BEGIN:DAYLIGHT
DTSTART:20260329T030000
TZNAME:CEST
TZOFFSETFROM:+0100
TZOFFSETTO:+0200
END:DAYLIGHT
END:VTIMEZONE
END:VCALENDAR
