BEGIN:VCALENDAR
VERSION:2.0
PRODID:-//Plone.org//NONSGML plone.app.event//EN
X-WR-TIMEZONE:Europe/Berlin
BEGIN:VEVENT
SUMMARY:Denkprozess mit KI erweitern statt ersetzen (Coffee Lecture)
DTSTART;TZID=Europe/Berlin:20260630T140000
DTEND;TZID=Europe/Berlin:20260630T150000
DTSTAMP:20260420T074547Z
UID:2ddb0930b1904164bed23d143ec324c1@www.uni-marburg.de
ATTENDEE;CN="Dr. Esther Krähwinkel & Florian Hantschel, Lernzentrum UB Un
 i Marburg ";ROLE=REQ-PARTICIPANT:Dr. Esther Krähwinkel & Florian Hantsche
 l, Lernzentrum UB Uni Marburg 
CATEGORIES:Coffee Lectures
CREATED:20230309T120046Z
DESCRIPTION:https://www.uni-marburg.de/de/ub/aktuelles/termine/coffee-lect
 ures-sose-2026/coffee-lecture-30-06-2026\n
LAST-MODIFIED:20260326T133940Z
LOCATION:Online via Big Blue Button
URL:https://www.uni-marburg.de/de/ub/aktuelles/termine/coffee-lectures-sos
 e-2026/coffee-lecture-30-06-2026
END:VEVENT
BEGIN:VTIMEZONE
TZID:Europe/Berlin
X-LIC-LOCATION:Europe/Berlin
BEGIN:DAYLIGHT
DTSTART:20260329T030000
TZNAME:CEST
TZOFFSETFROM:+0100
TZOFFSETTO:+0200
END:DAYLIGHT
END:VTIMEZONE
END:VCALENDAR
