BEGIN:VCALENDAR
VERSION:2.0
PRODID:-//Plone.org//NONSGML plone.app.event//EN
X-WR-TIMEZONE:Europe/Berlin
BEGIN:VEVENT
SUMMARY:Mit KI klüger zusammenarbeiten: Verteilte Kognition im Studium (C
 offee Lectures)
DTSTART;TZID=Europe/Berlin:20250211T140000
DTEND;TZID=Europe/Berlin:20250211T143000
DTSTAMP:20260420T230125Z
UID:2947c865c15642b4ae49d488d80f757c@www.uni-marburg.de
ATTENDEE;CN="Joss von Hadeln, Projekt HessenHub – Netzwerk digitale Hoch
 schullehre Hessen, JLU Gießen";ROLE=REQ-PARTICIPANT:Joss von Hadeln, Proj
 ekt HessenHub – Netzwerk digitale Hochschullehre Hessen, JLU Gießen
CREATED:20230309T120046Z
DESCRIPTION:https://www.uni-marburg.de/de/ub/aktuelles/termine/coffee-lect
 ures-termine-wise-2024-25/coffee-lecture-11-02-2025\n
LAST-MODIFIED:20240923T130044Z
LOCATION:Online via Big Blue Button
URL:https://www.uni-marburg.de/de/ub/aktuelles/termine/coffee-lectures-ter
 mine-wise-2024-25/coffee-lecture-11-02-2025
END:VEVENT
BEGIN:VTIMEZONE
TZID:Europe/Berlin
X-LIC-LOCATION:Europe/Berlin
BEGIN:STANDARD
DTSTART:20241027T020000
TZNAME:CET
TZOFFSETFROM:+0200
TZOFFSETTO:+0100
END:STANDARD
END:VTIMEZONE
END:VCALENDAR
