BEGIN:VCALENDAR
VERSION:2.0
PRODID:-//Plone.org//NONSGML plone.app.event//EN
X-WR-TIMEZONE:Europe/Berlin
BEGIN:VEVENT
SUMMARY:Dos & Don'ts in Vorbereitung & Performance bei mündlichen Leistun
 gen (Coffee Lecture Online)
DTSTART;TZID=Europe/Berlin:20251202T140000
DTEND;TZID=Europe/Berlin:20251202T143000
DTSTAMP:20260424T050707Z
UID:25ab35a5053246809815812cef08bda8@www.uni-marburg.de
ATTENDEE;CN="Alexander Schmoldt, Institut für Anatomie und Zellbiologie, 
 Brüder Grimm Debattierclub Marburg e.V.";ROLE=REQ-PARTICIPANT:Alexander S
 chmoldt, Institut für Anatomie und Zellbiologie, Brüder Grimm Debattierc
 lub Marburg e.V.
CATEGORIES:()
CREATED:20230309T120046Z
DESCRIPTION:https://www.uni-marburg.de/de/ub/aktuelles/termine/coffee-lect
 ures-termine-wise-2025-26/coffee-lecture-02-12-2025-1\n
LAST-MODIFIED:20251202T132439Z
LOCATION:Online via Big Blue Button
URL:https://www.uni-marburg.de/de/ub/aktuelles/termine/coffee-lectures-ter
 mine-wise-2025-26/coffee-lecture-02-12-2025-1
END:VEVENT
BEGIN:VTIMEZONE
TZID:Europe/Berlin
X-LIC-LOCATION:Europe/Berlin
BEGIN:STANDARD
DTSTART:20251026T020000
TZNAME:CET
TZOFFSETFROM:+0200
TZOFFSETTO:+0100
END:STANDARD
END:VTIMEZONE
END:VCALENDAR
