BEGIN:VCALENDAR
VERSION:2.0
PRODID:-//Plone.org//NONSGML plone.app.event//EN
X-WR-TIMEZONE:Europe/Berlin
BEGIN:VEVENT
SUMMARY:OpenStudioMarburg
DTSTART;TZID=Europe/Berlin:20240702T160000
DTEND;TZID=Europe/Berlin:20240702T170000
DTSTAMP:20260423T155745Z
UID:e3ce05a4552f47ae96f117a725b9c311@www.uni-marburg.de
CREATED:20240402T110724Z
DESCRIPTION:https://www.uni-marburg.de/de/ub/aktuelles/termine/copy_of_ope
 nstudiomarburg\n
LAST-MODIFIED:20240402T111049Z
LOCATION:Schulungsraum Medienzentrum C117 (+1/3170)\, UB
URL:https://www.uni-marburg.de/de/ub/aktuelles/termine/copy_of_openstudiom
 arburg
END:VEVENT
BEGIN:VTIMEZONE
TZID:Europe/Berlin
X-LIC-LOCATION:Europe/Berlin
BEGIN:DAYLIGHT
DTSTART:20240331T030000
TZNAME:CEST
TZOFFSETFROM:+0100
TZOFFSETTO:+0200
END:DAYLIGHT
END:VTIMEZONE
END:VCALENDAR
