BEGIN:VCALENDAR
VERSION:2.0
PRODID:-//Plone.org//NONSGML plone.app.event//EN
X-WR-TIMEZONE:Europe/Berlin
BEGIN:VEVENT
SUMMARY:Eröffnung der Ausstellung "Endlich soll es wahr werden\, dass ich
  ein fremdes\, wunderbares Land sehen darf": Walter Böhmes Expedition nac
 h Grönland 1929
DTSTART;TZID=Europe/Berlin:20251209T181500
DTEND;TZID=Europe/Berlin:20251209T200000
DTSTAMP:20260424T113751Z
UID:cdc85690523547958045d43455541841@www.uni-marburg.de
CATEGORIES:()
CREATED:20251203T122449Z
DESCRIPTION:https://www.uni-marburg.de/de/ub/aktuelles/termine/eroeffnung-
 der-ausstellung-zu-walter-boehmes-expedition-nach-groenland-1929\n
LAST-MODIFIED:20251208T093218Z
LOCATION:Vortragsraum der Universitätsbibliothek Marburg
URL:https://www.uni-marburg.de/de/ub/aktuelles/termine/eroeffnung-der-auss
 tellung-zu-walter-boehmes-expedition-nach-groenland-1929
END:VEVENT
BEGIN:VTIMEZONE
TZID:Europe/Berlin
X-LIC-LOCATION:Europe/Berlin
BEGIN:STANDARD
DTSTART:20251026T020000
TZNAME:CET
TZOFFSETFROM:+0200
TZOFFSETTO:+0100
END:STANDARD
END:VTIMEZONE
END:VCALENDAR
