BEGIN:VCALENDAR
VERSION:2.0
PRODID:-//Plone.org//NONSGML plone.app.event//EN
X-WR-TIMEZONE:Europe/Berlin
BEGIN:VEVENT
SUMMARY:Franziska Augstein: Winston Churchill
DTSTART;TZID=Europe/Berlin:20251024T190000
DTEND;TZID=Europe/Berlin:20251024T210000
DTSTAMP:20260419T212853Z
UID:32f15a7949354a1090e0fbd974534ab2@www.uni-marburg.de
ATTENDEE;CN="Franziska Augstein";ROLE=REQ-PARTICIPANT:Franziska Augstein
CREATED:20251016T132410Z
DESCRIPTION:https://www.uni-marburg.de/de/ub/aktuelles/termine/franziska-a
 ugstein-winston-churchill\nAutorenlesung
LAST-MODIFIED:20251016T132422Z
LOCATION:Vortragsraum der Zentralen Universitätsbibliothek
URL:https://www.uni-marburg.de/de/ub/aktuelles/termine/franziska-augstein-
 winston-churchill
END:VEVENT
BEGIN:VTIMEZONE
TZID:Europe/Berlin
X-LIC-LOCATION:Europe/Berlin
BEGIN:DAYLIGHT
DTSTART:20250330T030000
TZNAME:CEST
TZOFFSETFROM:+0100
TZOFFSETTO:+0200
END:DAYLIGHT
END:VTIMEZONE
END:VCALENDAR
