BEGIN:VCALENDAR
VERSION:2.0
PRODID:-//Plone.org//NONSGML plone.app.event//EN
X-WR-TIMEZONE:Europe/Berlin
BEGIN:VEVENT
SUMMARY:Intensiv-Schreibwoche der Schreibwerkstatt
DTSTART;TZID=Europe/Berlin:20250903T100000
DTEND;TZID=Europe/Berlin:20250903T160000
DTSTAMP:20260421T113204Z
UID:bf204e293e194ddcbf5f5cd4d111480d@www.uni-marburg.de
CATEGORIES:hausarbeit,schreibwerkstatt,literaturrecherche,schreiben
CREATED:20220805T085946Z
DESCRIPTION:https://www.uni-marburg.de/de/ub/aktuelles/termine/intensiv-sc
 hreibwoche-03-09-2025\n
LAST-MODIFIED:20250731T081824Z
LOCATION:Schulungsraum der ZUB\, Ebene 0
URL:https://www.uni-marburg.de/de/ub/aktuelles/termine/intensiv-schreibwoc
 he-03-09-2025
END:VEVENT
BEGIN:VTIMEZONE
TZID:Europe/Berlin
X-LIC-LOCATION:Europe/Berlin
BEGIN:DAYLIGHT
DTSTART:20250330T030000
TZNAME:CEST
TZOFFSETFROM:+0100
TZOFFSETTO:+0200
END:DAYLIGHT
END:VTIMEZONE
END:VCALENDAR
