BEGIN:VCALENDAR
VERSION:2.0
PRODID:-//Plone.org//NONSGML plone.app.event//EN
X-WR-TIMEZONE:Europe/Berlin
BEGIN:VEVENT
SUMMARY:Intensiv-Schreibwoche der Schreibwerkstatt
DTSTART;TZID=Europe/Berlin:20250905T100000
DTEND;TZID=Europe/Berlin:20250905T160000
DTSTAMP:20260421T215207Z
UID:78711987edfe42fe99a9c5ae6d05f251@www.uni-marburg.de
CATEGORIES:hausarbeit,schreibwerkstatt,literaturrecherche,schreiben
CREATED:20220805T085946Z
DESCRIPTION:https://www.uni-marburg.de/de/ub/aktuelles/termine/intensiv-sc
 hreibwoche-05-09-2025\n
LAST-MODIFIED:20250731T082116Z
LOCATION:Schulungsraum der ZUB\, Ebene 0
URL:https://www.uni-marburg.de/de/ub/aktuelles/termine/intensiv-schreibwoc
 he-05-09-2025
END:VEVENT
BEGIN:VTIMEZONE
TZID:Europe/Berlin
X-LIC-LOCATION:Europe/Berlin
BEGIN:DAYLIGHT
DTSTART:20250330T030000
TZNAME:CEST
TZOFFSETFROM:+0100
TZOFFSETTO:+0200
END:DAYLIGHT
END:VTIMEZONE
END:VCALENDAR
