BEGIN:VCALENDAR
VERSION:2.0
PRODID:-//Plone.org//NONSGML plone.app.event//EN
X-WR-TIMEZONE:Europe/Berlin
BEGIN:VEVENT
SUMMARY:KI meets Kulturerbe
DTSTART;TZID=Europe/Berlin:20240209T140000
DTEND;TZID=Europe/Berlin:20240209T180000
DTSTAMP:20260423T200741Z
UID:8dbaf6d01d8a4feba0b3d5fd96b213e8@www.uni-marburg.de
CREATED:20240130T075554Z
DESCRIPTION:https://www.uni-marburg.de/de/ub/aktuelles/termine/ki-meets-ku
 lturerbe\n
LAST-MODIFIED:20240130T075607Z
LOCATION:Vortragsraum des Deutschen Sprachatlas
URL:https://www.uni-marburg.de/de/ub/aktuelles/termine/ki-meets-kulturerbe
END:VEVENT
BEGIN:VTIMEZONE
TZID:Europe/Berlin
X-LIC-LOCATION:Europe/Berlin
BEGIN:STANDARD
DTSTART:20231029T020000
TZNAME:CET
TZOFFSETFROM:+0200
TZOFFSETTO:+0100
END:STANDARD
END:VTIMEZONE
END:VCALENDAR
