BEGIN:VCALENDAR
VERSION:2.0
PRODID:-//Plone.org//NONSGML plone.app.event//EN
X-WR-TIMEZONE:Europe/Berlin
BEGIN:VEVENT
SUMMARY:Chat-GPT im Studium – Kann eine KI meine wissenschaftliche Arbei
 t schreiben?
DTSTART;TZID=Europe/Berlin:20230530T140000
DTEND;TZID=Europe/Berlin:20230530T160000
DTSTAMP:20260424T143300Z
UID:2e182f65073644a39f0c2c9533ea7b95@www.uni-marburg.de
ATTENDEE;CN="Dr. Katja Heitmann (Schreibwerkstatt der Universitätsbibliot
 hek)";ROLE=REQ-PARTICIPANT:Dr. Katja Heitmann (Schreibwerkstatt der Univer
 sitätsbibliothek)
ATTENDEE;CN="Sophia Hercher (Referat für Lehrentwicklung und Hochschuldid
 aktik, Projekt Zukunftswerkstatt für digital gestützte Hochschullehre)";
 ROLE=REQ-PARTICIPANT:Sophia Hercher (Referat für Lehrentwicklung und Hoch
 schuldidaktik, Projekt Zukunftswerkstatt für digital gestützte Hochschul
 lehre)
CREATED:20230517T105548Z
DESCRIPTION:https://www.uni-marburg.de/de/ub/aktuelles/termine/kursprogram
 m-ub-sose-2023/chat-gpt-im-studium-kann-eine-ki-meine-wissenschaftliche-ar
 beit-schreiben\n
LAST-MODIFIED:20230517T105715Z
LOCATION:Online-Veranstaltung
URL:https://www.uni-marburg.de/de/ub/aktuelles/termine/kursprogramm-ub-sos
 e-2023/chat-gpt-im-studium-kann-eine-ki-meine-wissenschaftliche-arbeit-sch
 reiben
END:VEVENT
BEGIN:VTIMEZONE
TZID:Europe/Berlin
X-LIC-LOCATION:Europe/Berlin
BEGIN:DAYLIGHT
DTSTART:20230326T030000
TZNAME:CEST
TZOFFSETFROM:+0100
TZOFFSETTO:+0200
END:DAYLIGHT
END:VTIMEZONE
END:VCALENDAR
