BEGIN:VCALENDAR
VERSION:2.0
PRODID:-//Plone.org//NONSGML plone.app.event//EN
X-WR-TIMEZONE:Europe/Berlin
BEGIN:VEVENT
SUMMARY:Wie schreibe ich ein wissenschaftliches Exposé?
DTSTART;TZID=Europe/Berlin:20230615T160000
DTEND;TZID=Europe/Berlin:20230615T180000
DTSTAMP:20260423T151304Z
UID:8aeaba2145714a68865507e73b5d649f@www.uni-marburg.de
ATTENDEE;CN="Dominic Anton, Peer-Schreibberater";ROLE=REQ-PARTICIPANT:Domi
 nic Anton, Peer-Schreibberater
CREATED:20201016T122025Z
DESCRIPTION:https://www.uni-marburg.de/de/ub/aktuelles/termine/kursprogram
 m-ub-sose-2023/wissenschaftliches-expose-15-06-23\nWorkshop für Studieren
 de
LAST-MODIFIED:20230317T071734Z
LOCATION:Schulungsraum der UB im EG
URL:https://www.uni-marburg.de/de/ub/aktuelles/termine/kursprogramm-ub-sos
 e-2023/wissenschaftliches-expose-15-06-23
END:VEVENT
BEGIN:VTIMEZONE
TZID:Europe/Berlin
X-LIC-LOCATION:Europe/Berlin
BEGIN:DAYLIGHT
DTSTART:20230326T030000
TZNAME:CEST
TZOFFSETFROM:+0100
TZOFFSETTO:+0200
END:DAYLIGHT
END:VTIMEZONE
END:VCALENDAR
