BEGIN:VCALENDAR
VERSION:2.0
PRODID:-//Plone.org//NONSGML plone.app.event//EN
X-WR-TIMEZONE:Europe/Berlin
BEGIN:VEVENT
SUMMARY:Erste Schritte bei der Literaturrecherche
DTSTART;TZID=Europe/Berlin:20240523T140000
DTEND;TZID=Europe/Berlin:20240523T170000
DTSTAMP:20260421T234209Z
UID:abe23d5d73204f4aa000d0949040a6de@www.uni-marburg.de
ATTENDEE;CN="Franziska Schlegel, Diplom-Bibliothekarin";ROLE=REQ-PARTICIPA
 NT:Franziska Schlegel, Diplom-Bibliothekarin
ATTENDEE;CN="Lisanne Kersten, Bibliothekarin (B.A.)";ROLE=REQ-PARTICIPANT:
 Lisanne Kersten, Bibliothekarin (B.A.)
CREATED:20201016T122025Z
DESCRIPTION:https://www.uni-marburg.de/de/ub/aktuelles/termine/kursprogram
 m-ub-sose-2024/erste-schritte-literaturrecherche-23-05-2024\nSchulung für
  Studierende
LAST-MODIFIED:20240313T134438Z
LOCATION:Schulungsraum der UB im EG
URL:https://www.uni-marburg.de/de/ub/aktuelles/termine/kursprogramm-ub-sos
 e-2024/erste-schritte-literaturrecherche-23-05-2024
END:VEVENT
BEGIN:VTIMEZONE
TZID:Europe/Berlin
X-LIC-LOCATION:Europe/Berlin
BEGIN:DAYLIGHT
DTSTART:20240331T030000
TZNAME:CEST
TZOFFSETFROM:+0100
TZOFFSETTO:+0200
END:DAYLIGHT
END:VTIMEZONE
END:VCALENDAR
