BEGIN:VCALENDAR
VERSION:2.0
PRODID:-//Plone.org//NONSGML plone.app.event//EN
X-WR-TIMEZONE:Europe/Berlin
BEGIN:VEVENT
SUMMARY:Wie entwickle ich eine wissenschaftliche Fragestellung?
DTSTART;TZID=Europe/Berlin:20240515T140000
DTEND;TZID=Europe/Berlin:20240515T180000
DTSTAMP:20260421T171920Z
UID:6882ec6b11f64e6b84edbe8922b4d5e5@www.uni-marburg.de
ATTENDEE;CN="Dr. Andrea Beutlhauser, Lektorin, Schreibcoach und Lehrbeauft
 ragte";ROLE=REQ-PARTICIPANT:Dr. Andrea Beutlhauser, Lektorin, Schreibcoach
  und Lehrbeauftragte
ATTENDEE;CN=;ROLE=REQ-PARTICIPANT:
CREATED:20201016T122025Z
DESCRIPTION:https://www.uni-marburg.de/de/ub/aktuelles/termine/kursprogram
 m-ub-sose-2024/fragestellung-15-05-2024\nWorkshop für Studierende
LAST-MODIFIED:20240313T132927Z
LOCATION:Schulungsraum der UB im EG
URL:https://www.uni-marburg.de/de/ub/aktuelles/termine/kursprogramm-ub-sos
 e-2024/fragestellung-15-05-2024
END:VEVENT
BEGIN:VTIMEZONE
TZID:Europe/Berlin
X-LIC-LOCATION:Europe/Berlin
BEGIN:DAYLIGHT
DTSTART:20240331T030000
TZNAME:CEST
TZOFFSETFROM:+0100
TZOFFSETTO:+0200
END:DAYLIGHT
END:VTIMEZONE
END:VCALENDAR
