BEGIN:VCALENDAR
VERSION:2.0
PRODID:-//Plone.org//NONSGML plone.app.event//EN
X-WR-TIMEZONE:Europe/Berlin
BEGIN:VEVENT
SUMMARY:Blender 3D Meeting
DTSTART;TZID=Europe/Berlin:20250722T100000
DTEND;TZID=Europe/Berlin:20250722T120000
DTSTAMP:20260420T120901Z
UID:5bbe837d10404c2f9a8cc4de0036cd7d@www.uni-marburg.de
ATTENDEE;CN="Aaron Beller, Medientechniker Medienzentrum";ROLE=REQ-PARTICI
 PANT:Aaron Beller, Medientechniker Medienzentrum
CREATED:20201016T122025Z
DESCRIPTION:https://www.uni-marburg.de/de/ub/aktuelles/termine/kursprogram
 m-ub-sose-2025/blender-meeting-22-07-2025\nWorkshop für alle Interessiert
 en
LAST-MODIFIED:20250321T111606Z
LOCATION:XSpaces Game Lab (Gruppenraum 50)\, ZUB
URL:https://www.uni-marburg.de/de/ub/aktuelles/termine/kursprogramm-ub-sos
 e-2025/blender-meeting-22-07-2025
END:VEVENT
BEGIN:VTIMEZONE
TZID:Europe/Berlin
X-LIC-LOCATION:Europe/Berlin
BEGIN:DAYLIGHT
DTSTART:20250330T030000
TZNAME:CEST
TZOFFSETFROM:+0100
TZOFFSETTO:+0200
END:DAYLIGHT
END:VTIMEZONE
END:VCALENDAR
