BEGIN:VCALENDAR
VERSION:2.0
PRODID:-//Plone.org//NONSGML plone.app.event//EN
X-WR-TIMEZONE:Europe/Berlin
BEGIN:VEVENT
SUMMARY:Working with the MLA Database
DTSTART;TZID=Europe/Berlin:20250707T101500
DTEND;TZID=Europe/Berlin:20250707T114500
DTSTAMP:20260420T190529Z
UID:c26e4f40d9794a9f926a75cdb0827273@www.uni-marburg.de
ATTENDEE;CN="Dr. Sylvia Langwald, subject librarian for English, American 
 and Canadian Studies, head of learning centre";ROLE=REQ-PARTICIPANT:Dr. Sy
 lvia Langwald, subject librarian for English, American and Canadian Studie
 s, head of learning centre
CREATED:20250702T060131Z
DESCRIPTION:https://www.uni-marburg.de/de/ub/aktuelles/termine/kursprogram
 m-ub-sose-2025/working-with-the-mla-database\nThis workshop is an introduc
 tion to the MLA database for students and other people interested in explo
 ring the MLA
LAST-MODIFIED:20250702T060318Z
LOCATION:Deutschhausstraße 9\, 35037 Marburg\, Schulungsraum im Erdgescho
 ss (B013\, course room\, level 0)
URL:https://www.uni-marburg.de/de/ub/aktuelles/termine/kursprogramm-ub-sos
 e-2025/working-with-the-mla-database
END:VEVENT
BEGIN:VTIMEZONE
TZID:Europe/Berlin
X-LIC-LOCATION:Europe/Berlin
BEGIN:DAYLIGHT
DTSTART:20250330T030000
TZNAME:CEST
TZOFFSETFROM:+0100
TZOFFSETTO:+0200
END:DAYLIGHT
END:VTIMEZONE
END:VCALENDAR
