BEGIN:VCALENDAR
VERSION:2.0
PRODID:-//Plone.org//NONSGML plone.app.event//EN
X-WR-TIMEZONE:Europe/Berlin
BEGIN:VEVENT
SUMMARY:The Academic Writing Process from Start to Finish
DTSTART;TZID=Europe/Berlin:20260618T091500
DTEND;TZID=Europe/Berlin:20260618T124500
DTSTAMP:20260421T031039Z
UID:9423fbc0c94a433ba0ea95a686724709@www.uni-marburg.de
ATTENDEE;CN="Carly Crane, M.A., Americanist, Writing Consultant and Writin
 g Researcher";ROLE=REQ-PARTICIPANT:Carly Crane, M.A., Americanist, Writing
  Consultant and Writing Researcher
CATEGORIES:Workshop
CREATED:20201016T122025Z
DESCRIPTION:https://www.uni-marburg.de/de/ub/aktuelles/termine/kursprogram
 m-ub-sose-2026/academic-18-06-2026\nWorkshop for students
LAST-MODIFIED:20260323T121708Z
LOCATION:Online via BigBlueButton
URL:https://www.uni-marburg.de/de/ub/aktuelles/termine/kursprogramm-ub-sos
 e-2026/academic-18-06-2026
END:VEVENT
BEGIN:VTIMEZONE
TZID:Europe/Berlin
X-LIC-LOCATION:Europe/Berlin
BEGIN:DAYLIGHT
DTSTART:20260329T030000
TZNAME:CEST
TZOFFSETFROM:+0100
TZOFFSETTO:+0200
END:DAYLIGHT
END:VTIMEZONE
END:VCALENDAR
