BEGIN:VCALENDAR
VERSION:2.0
PRODID:-//Plone.org//NONSGML plone.app.event//EN
X-WR-TIMEZONE:Europe/Berlin
BEGIN:VEVENT
SUMMARY:CI konformes DTP mit Adobe Indesign
DTSTART;TZID=Europe/Berlin:20260519T090000
DTEND;TZID=Europe/Berlin:20260519T130000
DTSTAMP:20260422T023944Z
UID:1e7060662f47470c9f564b503ca75038@www.uni-marburg.de
ATTENDEE;CN="Jan Trauzold, Medienzentrum UB";ROLE=REQ-PARTICIPANT:Jan Trau
 zold, Medienzentrum UB
CATEGORIES:InDesign,Corporate Design
CREATED:20201016T122025Z
DESCRIPTION:https://www.uni-marburg.de/de/ub/aktuelles/termine/kursprogram
 m-ub-sose-2026/adobe-indesign-19-05-2026\nWorkshop für alle Interessierte
 n\, primär Beschäftige\, Lehrende\, Postdocs\, Promovierende\, aber auch
  Studierende
LAST-MODIFIED:20260324T101749Z
LOCATION:Schulungsraum im Medienzentrum\, ZUB
URL:https://www.uni-marburg.de/de/ub/aktuelles/termine/kursprogramm-ub-sos
 e-2026/adobe-indesign-19-05-2026
END:VEVENT
BEGIN:VTIMEZONE
TZID:Europe/Berlin
X-LIC-LOCATION:Europe/Berlin
BEGIN:DAYLIGHT
DTSTART:20260329T030000
TZNAME:CEST
TZOFFSETFROM:+0100
TZOFFSETTO:+0200
END:DAYLIGHT
END:VTIMEZONE
END:VCALENDAR
